BEGIN:VCALENDAR
VERSION:2.0
PRODID:-//PDI - ECPv4.9.13//NONSGML v1.0//EN
CALSCALE:GREGORIAN
METHOD:PUBLISH
X-WR-CALNAME:PDI
X-ORIGINAL-URL:https://www.pdisoftware.com
X-WR-CALDESC:Events for PDI
BEGIN:VTIMEZONE
TZID:UTC
BEGIN:STANDARD
TZOFFSETFROM:+0000
TZOFFSETTO:+0000
TZNAME:UTC
DTSTART:20200101T000000
END:STANDARD
END:VTIMEZONE
BEGIN:VEVENT
DTSTART;VALUE=DATE:20200203
DTEND;VALUE=DATE:20200205
DTSTAMP:20191223T013701
CREATED:20191104T195237Z
LAST-MODIFIED:20191104T195237Z
UID:14878-1580688000-1580860799@www.pdisoftware.com
SUMMARY:C-Store Forum MENA 2020
DESCRIPTION:
URL:https://www.pdisoftware.com/event/c-store-forum-mena-2020/
LOCATION:Hyatt Regency Dubai\, Dubai\, United Arab Emirates
END:VEVENT
BEGIN:VEVENT
DTSTART;VALUE=DATE:20200205
DTEND;VALUE=DATE:20200208
DTSTAMP:20191223T013701
CREATED:20191104T223953Z
LAST-MODIFIED:20191104T223953Z
UID:14891-1580860800-1581119999@www.pdisoftware.com
SUMMARY:NACS Leadership Forum 2020
DESCRIPTION:
URL:https://www.pdisoftware.com/event/nacs-leadership-forum-2020/
LOCATION:Eden Roc Miami Beach Resort\, Miami Beach\, FL\, United States
END:VEVENT
BEGIN:VEVENT
DTSTART;VALUE=DATE:20200218
DTEND;VALUE=DATE:20200220
DTSTAMP:20191223T013701
CREATED:20191104T225431Z
LAST-MODIFIED:20191104T225431Z
UID:14893-1581984000-1582156799@www.pdisoftware.com
SUMMARY:Convenience Retailing University 2020
DESCRIPTION:
URL:https://www.pdisoftware.com/event/convenience-retailing-university-2020/
LOCATION:Sheraton New Orleans\, New Orleans\, LA\, United States
END:VEVENT
BEGIN:VEVENT
DTSTART;VALUE=DATE:20200223
DTEND;VALUE=DATE:20200227
DTSTAMP:20191223T013701
CREATED:20191015T170250Z
LAST-MODIFIED:20191015T170250Z
UID:14781-1582416000-1582761599@www.pdisoftware.com
SUMMARY:CMA/SIMA 2020
DESCRIPTION:
URL:https://www.pdisoftware.com/event/cma-sima-2020/
LOCATION:Hyatt Regency\, Dallas\, Dallas\, TX\, United States
END:VEVENT
BEGIN:VEVENT
DTSTART;VALUE=DATE:20200823
DTEND;VALUE=DATE:20200827
DTSTAMP:20191223T013701
CREATED:20191024T201029Z
LAST-MODIFIED:20191024T201405Z
UID:14827-1598140800-1598486399@www.pdisoftware.com
SUMMARY:PDI Users Conference 2020
DESCRIPTION:
URL:https://www.pdisoftware.com/event/pdi-users-conference-2020/
LOCATION:Gaylord National Resort and Convention Center\, DC\, United States
END:VEVENT
END:VCALENDAR